BEGIN:VCALENDAR
VERSION:2.0
PRODID:-//Tim Koelling - ECPv6.15.18//NONSGML v1.0//EN
CALSCALE:GREGORIAN
METHOD:PUBLISH
X-WR-CALNAME:Tim Koelling
X-ORIGINAL-URL:http://timkoelling.com
X-WR-CALDESC:Events for Tim Koelling
REFRESH-INTERVAL;VALUE=DURATION:PT1H
X-Robots-Tag:noindex
X-PUBLISHED-TTL:PT1H
BEGIN:VTIMEZONE
TZID:America/Chicago
BEGIN:DAYLIGHT
TZOFFSETFROM:-0600
TZOFFSETTO:-0500
TZNAME:CDT
DTSTART:20160313T080000
END:DAYLIGHT
BEGIN:STANDARD
TZOFFSETFROM:-0500
TZOFFSETTO:-0600
TZNAME:CST
DTSTART:20161106T070000
END:STANDARD
BEGIN:DAYLIGHT
TZOFFSETFROM:-0600
TZOFFSETTO:-0500
TZNAME:CDT
DTSTART:20170312T080000
END:DAYLIGHT
BEGIN:STANDARD
TZOFFSETFROM:-0500
TZOFFSETTO:-0600
TZNAME:CST
DTSTART:20171105T070000
END:STANDARD
BEGIN:DAYLIGHT
TZOFFSETFROM:-0600
TZOFFSETTO:-0500
TZNAME:CDT
DTSTART:20180311T080000
END:DAYLIGHT
BEGIN:STANDARD
TZOFFSETFROM:-0500
TZOFFSETTO:-0600
TZNAME:CST
DTSTART:20181104T070000
END:STANDARD
BEGIN:DAYLIGHT
TZOFFSETFROM:-0600
TZOFFSETTO:-0500
TZNAME:CDT
DTSTART:20190310T080000
END:DAYLIGHT
BEGIN:STANDARD
TZOFFSETFROM:-0500
TZOFFSETTO:-0600
TZNAME:CST
DTSTART:20191103T070000
END:STANDARD
END:VTIMEZONE
BEGIN:VTIMEZONE
TZID:UTC
BEGIN:STANDARD
TZOFFSETFROM:+0000
TZOFFSETTO:+0000
TZNAME:UTC
DTSTART:20160101T000000
END:STANDARD
END:VTIMEZONE
BEGIN:VEVENT
DTSTART;TZID=America/Chicago:20180712T180000
DTEND;TZID=America/Chicago:20180712T210000
DTSTAMP:20260425T185847
CREATED:20180710T125001Z
LAST-MODIFIED:20180710T125001Z
UID:572-1531418400-1531429200@timkoelling.com
SUMMARY:High-Hat Second Line at Giddings Plaza
DESCRIPTION:Join High-Hat Second Line as we play a rare all-ages\, kid friendly early set for the Lincoln Square Chamber of Commerce Summer Concert Series! Pull up a chair as we play the New Orleans hits\, and other tunes sure to get you dancing.
URL:http://timkoelling.com/gigs/high-hat-second-line-at-giddings-plaza/
LOCATION:Giddings Plaza\, 4733 N. Lincoln Ave\, Chicago\, IL\, 60625\, United States
ATTACH;FMTTYPE=image/jpeg:http://timkoelling.com/wp-content/uploads/2014/02/IMG_0001.jpg
END:VEVENT
BEGIN:VEVENT
DTSTART;TZID=America/Chicago:20180624T210000
DTEND;TZID=America/Chicago:20180624T233000
DTSTAMP:20260425T185847
CREATED:20180603T193623Z
LAST-MODIFIED:20180603T193623Z
UID:565-1529874000-1529883000@timkoelling.com
SUMMARY:High Hat Second Line at Simons Tavern
DESCRIPTION:Join High-Hat Second Line at our home away from home\, Simon’s Tavern for some Sunday night fun! The sound of New Orleans in Chicago’s best Sweedish bar. Cheap as free and more fun than your Monday morning!
URL:http://timkoelling.com/gigs/high-hat-second-line-at-simons-tavern/
LOCATION:Simon’s Tavern\, 5210 N. Clark St.\, Chicago\, IL\, 60640\, United States
ATTACH;FMTTYPE=image/jpeg:http://timkoelling.com/wp-content/uploads/2017/01/HHSL-City-Winery.jpeg
END:VEVENT
BEGIN:VEVENT
DTSTART;TZID=America/Chicago:20180621T200000
DTEND;TZID=America/Chicago:20180621T235900
DTSTAMP:20260425T185847
CREATED:20180603T192204Z
LAST-MODIFIED:20180603T192204Z
UID:561-1529611200-1529625540@timkoelling.com
SUMMARY:Psychophantic Furs at Elbo Room
DESCRIPTION:Chicago’s best Psychedelic Furs tribute band\, the Psychophantic Furs (featuring TK on sax) hit elbo room with Guns and Ammunition (The Clash) and PriMary (The Cure)
URL:http://timkoelling.com/gigs/psychophantic-furs-at-elbo-room/
LOCATION:Elbo Room\, 2871 N Lincoln Ave\, Chicago\, IL\, 60657\, United States
ATTACH;FMTTYPE=image/jpeg:http://timkoelling.com/wp-content/uploads/2018/06/ElboRoom-621.jpg
END:VEVENT
BEGIN:VEVENT
DTSTART;TZID=America/Chicago:20180609T180000
DTEND;TZID=America/Chicago:20180609T235900
DTSTAMP:20260425T185847
CREATED:20180603T190253Z
LAST-MODIFIED:20180603T190253Z
UID:557-1528567200-1528588740@timkoelling.com
SUMMARY:Pink Monkey at Global Reddit Meetup Day 2018
DESCRIPTION:Pink Monkey returns! My passion project and labor of love is reborn! Weird Jazz\, Rough Jazz\, Dance Music\, whatever you want to call it. Come support 8 local bands and meet the internet in person. \nThe acts performing this year in no particular order are: \nPink Monkey\nSkatterplot\nLemon Knife\nFox\nOCLT\nGorilla Social\nSuper Neutral\nDoc Watson
URL:http://timkoelling.com/gigs/pink-monkey-at-global-reddit-meetup-day-2018/
LOCATION:Irish American Heritage Center\, 4626 Knox Ave\, Chicago\, IL\, 60630\, United States
ATTACH;FMTTYPE=image/jpeg:http://timkoelling.com/wp-content/uploads/2014/06/TK-Sax-PM1.jpg
END:VEVENT
BEGIN:VEVENT
DTSTART;TZID=America/Chicago:20180113T193000
DTEND;TZID=America/Chicago:20180114T013000
DTSTAMP:20260425T185847
CREATED:20171116T190755Z
LAST-MODIFIED:20171116T190755Z
UID:513-1515871800-1515893400@timkoelling.com
SUMMARY:Band Called Catch at Martyrs - Record Release and 10 Year Anniversary!
DESCRIPTION:Can you believe it’s been 10 years since Band Called Catch played our first show? Man-o-man how time flys… This calls for a party and we’re excited to also be releasing a new record! We’re so honored to share this night with such a great lineup! The night kicks off with an acoustic set from Laura Glyda\, followed by our friends Buffalo Rose\, then the one and only Todd Kessler. Things keep going with the talented Friends of the Bog\, followed by an hour set from Band Called Catch! THEN – STICK AROUND as many of the performers throughout the evening join forces for a closing night sing-along tribute set we’re calling the “kaleidoscope jam!” \nALSO! Past members from BCC will also be joining us on stage like Eli Plasencia\, Ian Kelly Davis\, Darcy Wood and more TBA! It’s gonna be some crazy good fun. \nTickets are $10 at the door.
URL:http://timkoelling.com/gigs/band-called-catch-at-martyrs-record-release-and-10-year-anniversary/
LOCATION:Martyrs’\, 3855 N Lincoln Ave\, Chicago\, IL\, 60613\, United States
ATTACH;FMTTYPE=image/jpeg:http://timkoelling.com/wp-content/uploads/2017/11/IMG_2530.jpg
END:VEVENT
BEGIN:VEVENT
DTSTART;TZID=America/Chicago:20171231T120000
DTEND;TZID=America/Chicago:20171231T160000
DTSTAMP:20260425T185847
CREATED:20171221T202517Z
LAST-MODIFIED:20171221T202517Z
UID:532-1514721600-1514736000@timkoelling.com
SUMMARY:Four Star Brass Band at Frontier - Saints vs. Buccaneers
DESCRIPTION:Who Dat! Join Who Dat Nation Chicago\, and Four Star Brass Band at Frontier for this week’s New Orleans Saints matchup! Four Star provides your in-game entertainment (No commercials here\, just the game!)\, and feel the love of The Big Easy!
URL:http://timkoelling.com/gigs/four-star-brass-band-at-frontier-saints-vs-buccaneers-2/
LOCATION:Frontier\, 1072 N. Milwaukee Ave\, Chicago\, IL\, 60642\, United States
ATTACH;FMTTYPE=image/jpeg:http://timkoelling.com/wp-content/uploads/2017/09/Four-Star-Logo.jpg
END:VEVENT
BEGIN:VEVENT
DTSTART;TZID=America/Chicago:20171224T120000
DTEND;TZID=America/Chicago:20171224T160000
DTSTAMP:20260425T185847
CREATED:20171221T201758Z
LAST-MODIFIED:20171221T201758Z
UID:530-1514116800-1514131200@timkoelling.com
SUMMARY:Four Star Brass Band at Frontier - Saints vs. Falcons
DESCRIPTION:Who Dat! Join Who Dat Nation Chicago\, and Four Star Brass Band at Frontier for this week’s New Orleans Saints matchup! Four Star provides your in-game entertainment (No commercials here\, just the game!)\, and feel the love of The Big Easy!
URL:http://timkoelling.com/gigs/four-star-brass-band-at-frontier-saints-vs-falcons/
LOCATION:Frontier\, 1072 N. Milwaukee Ave\, Chicago\, IL\, 60642\, United States
ATTACH;FMTTYPE=image/jpeg:http://timkoelling.com/wp-content/uploads/2017/09/Four-Star-Logo.jpg
END:VEVENT
BEGIN:VEVENT
DTSTART;TZID=America/Chicago:20171214T190000
DTEND;TZID=America/Chicago:20171214T210000
DTSTAMP:20260425T185847
CREATED:20171213T221809Z
LAST-MODIFIED:20171213T221809Z
UID:522-1513278000-1513285200@timkoelling.com
SUMMARY:Holiday Saxophone Tree-O + Little Drummer Boy
DESCRIPTION:Join Tim Koelling and his Holiday Saxophone Tree-O + Little Drummer Boy this Thursday night in the greater Lincoln Square area. Your favorite holiday songs with a little saxophone flair. We’ll be performing between 7 and 9 anywhere from Lincoln and Lawrence to Western and Wilson. \nThe Holiday Saxophone Tree-O + Little Drummer boy is brought to you care of Nomadic Ant and Esquina. \nTim Koelling – Soprano Saxophone \nEric Brink – Tenor Saxophone \nJustin Past – Baritone Saxophone \nPete Nocito – Drums
URL:http://timkoelling.com/gigs/holiday-saxophone-tree-o-little-drummer-boy/
LOCATION:Lincoln Square\, Chicago IL\, Lincoln and Leland\, Chicago\, IL\, 60625\, United States
END:VEVENT
BEGIN:VEVENT
DTSTART;TZID=America/Chicago:20171203T210000
DTEND;TZID=America/Chicago:20171203T233000
DTSTAMP:20260425T185847
CREATED:20171116T185453Z
LAST-MODIFIED:20171116T185453Z
UID:511-1512334800-1512343800@timkoelling.com
SUMMARY:High Hat Second Line at Simon's
DESCRIPTION:The resurrection of the High Hat Second Line continues! Strap on those dancing shoes\, prepare to be filled with holiday cheer through the miracle that is Glogg\, and let us lead you in a night of merriment. The thrill is in your feet as you dance to that beat called the second line.
URL:http://timkoelling.com/gigs/high-hat-second-line-at-simons-2/
LOCATION:Simon’s Tavern\, 5210 N. Clark St.\, Chicago\, IL\, 60640\, United States
ATTACH;FMTTYPE=image/jpeg:http://timkoelling.com/wp-content/uploads/2014/02/IMG_0001.jpg
END:VEVENT
BEGIN:VEVENT
DTSTART;TZID=America/Chicago:20171119T120000
DTEND;TZID=America/Chicago:20171119T160000
DTSTAMP:20260425T185847
CREATED:20171102T171659Z
LAST-MODIFIED:20171102T171659Z
UID:507-1511092800-1511107200@timkoelling.com
SUMMARY:Four Star Brass Band at Frontier - Saints vs. Redskins
DESCRIPTION:Who Dat! Join Who Dat Nation Chicago\, and Four Star Brass Band at Frontier for this week’s New Orleans Saints matchup! Four Star provides your in-game entertainment (No commercials here\, just the game!)\, and feel the love of The Big Easy!
URL:http://timkoelling.com/gigs/four-star-brass-band-at-frontier-saints-vs-redskins/
LOCATION:Frontier\, 1072 N. Milwaukee Ave\, Chicago\, IL\, 60642\, United States
END:VEVENT
BEGIN:VEVENT
DTSTART;TZID=America/Chicago:20171112T120000
DTEND;TZID=America/Chicago:20171112T160000
DTSTAMP:20260425T185847
CREATED:20171102T171003Z
LAST-MODIFIED:20171102T171003Z
UID:505-1510488000-1510502400@timkoelling.com
SUMMARY:Four Star Brass Band at Frontier - Saints vs. Bills
DESCRIPTION:Who Dat! Join Who Dat Nation Chicago\, and Four Star Brass Band at Frontier for this week’s New Orleans Saints matchup! Four Star provides your in-game entertainment (No commercials here\, just the game!)\, and feel the love of The Big Easy!
URL:http://timkoelling.com/gigs/four-star-brass-band-at-frontier-saints-vs-bills/
LOCATION:Frontier\, 1072 N. Milwaukee Ave\, Chicago\, IL\, 60642\, United States
ATTACH;FMTTYPE=image/jpeg:http://timkoelling.com/wp-content/uploads/2017/09/Four-Star-Logo.jpg
END:VEVENT
BEGIN:VEVENT
DTSTART;TZID=America/Chicago:20171105T210000
DTEND;TZID=America/Chicago:20171105T233000
DTSTAMP:20260425T185847
CREATED:20171101T205005Z
LAST-MODIFIED:20171101T205005Z
UID:500-1509915600-1509924600@timkoelling.com
SUMMARY:High Hat Second Line at Simon's
DESCRIPTION:The High Hat Second Line makes it’s triumphant return to Simon’s in Andersonville after a long break! Come dance\, sing\, and be merry!
URL:http://timkoelling.com/gigs/high-hat-second-line-at-simons/
LOCATION:Simon’s Tavern\, 5210 N. Clark St.\, Chicago\, IL\, 60640\, United States
ATTACH;FMTTYPE=image/jpeg:http://timkoelling.com/wp-content/uploads/2017/01/HHSL-City-Winery.jpeg
END:VEVENT
BEGIN:VEVENT
DTSTART;TZID=America/Chicago:20171105T120000
DTEND;TZID=America/Chicago:20171105T160000
DTSTAMP:20260425T185847
CREATED:20171102T170646Z
LAST-MODIFIED:20171102T170646Z
UID:503-1509883200-1509897600@timkoelling.com
SUMMARY:Four Star Brass Band at Frontier - Saints vs. Buccaneers
DESCRIPTION:Who Dat! Join Who Dat Nation Chicago\, and Four Star Brass Band at Frontier for this week’s New Orleans Saints matchup! Four Star provides your in-game entertainment (No commercials here\, just the game!)\, and feel the love of The Big Easy!
URL:http://timkoelling.com/gigs/four-star-brass-band-at-frontier-saints-vs-buccaneers/
LOCATION:Frontier\, 1072 N. Milwaukee Ave\, Chicago\, IL\, 60642\, United States
ATTACH;FMTTYPE=image/jpeg:http://timkoelling.com/wp-content/uploads/2017/09/Four-Star-Logo.jpg
END:VEVENT
BEGIN:VEVENT
DTSTART;TZID=America/Chicago:20171028T200000
DTEND;TZID=America/Chicago:20171028T230000
DTSTAMP:20260425T185847
CREATED:20171021T175348Z
LAST-MODIFIED:20171021T175348Z
UID:496-1509220800-1509231600@timkoelling.com
SUMMARY:High Hat Second Line at Soho House (Private Event)
DESCRIPTION:
URL:http://timkoelling.com/gigs/high-hat-second-line-at-soho-house-private-event/
LOCATION:Soho House\, 113 N Green St\, Chicago\, IL\, 60607
ATTACH;FMTTYPE=image/jpeg:http://timkoelling.com/wp-content/uploads/2014/02/IMG_0001.jpg
END:VEVENT
BEGIN:VEVENT
DTSTART;TZID=America/Chicago:20171022T120000
DTEND;TZID=America/Chicago:20171022T160000
DTSTAMP:20260425T185847
CREATED:20171021T174800Z
LAST-MODIFIED:20171021T174800Z
UID:494-1508673600-1508688000@timkoelling.com
SUMMARY:Four Star Brass Band at Frontier - Saints vs. Packers
DESCRIPTION:Who Dat! Join Who Dat Nation Chicago\, and Four Star Brass Band at Frontier for this week’s New Orleans Saints matchup! Four Star provides your in-game entertainment (No commercials here\, just the game!)\, and feel the love of The Big Easy!
URL:http://timkoelling.com/gigs/four-star-brass-band-at-frontier-saints-vs-packers/
LOCATION:Frontier\, 1072 N. Milwaukee Ave\, Chicago\, IL\, 60642\, United States
ATTACH;FMTTYPE=image/jpeg:http://timkoelling.com/wp-content/uploads/2017/09/Four-Star-Logo.jpg
END:VEVENT
BEGIN:VEVENT
DTSTART;TZID=America/Chicago:20171021T180000
DTEND;TZID=America/Chicago:20171021T200000
DTSTAMP:20260425T185847
CREATED:20171021T172821Z
LAST-MODIFIED:20171021T172900Z
UID:492-1508608800-1508616000@timkoelling.com
SUMMARY:Four Star Brass Band - Arts in the Dark - Halloween Parade of Artists
DESCRIPTION:Four Star Brass Band participates in the Arts in the Dark Parade for the City of Chicago for the 2nd year. This time with less rain! \nArts in the Dark – Halloween Parade of Artists draws together Chicago’s vast creative community\, from world-renowned cultural institutions to aspiring artists in every field.  Lookingglass Theatre will delight the crowd with characters from their Alice production and will partner with performers from The Actor’s Gymnasium\, The Art Institute and School of the Art Institute will march in medieval-style armor\, Broadway In Chicago will invite their devoted fans to dress up as their favorite Broadway characters\, 1871 will have a float modeled after the Chicago Merchandise Mart\, and After School Matters will have multiple programs participating including West Town Bikes with decorated cycles and riders\, the Mariachi Ensemble\, Aztec Dance Chicago and The Art of Drumming. \nOn Columbus Dr. moving north from Balbo Ave. to Monroe St.
URL:http://timkoelling.com/gigs/four-star-brass-band-arts-in-the-dark-halloween-parade-of-artists/
LOCATION:IL
ATTACH;FMTTYPE=image/jpeg:http://timkoelling.com/wp-content/uploads/2017/09/Four-Star-Logo.jpg
END:VEVENT
BEGIN:VEVENT
DTSTART;TZID=America/Chicago:20171001T140000
DTEND;TZID=America/Chicago:20171001T160000
DTSTAMP:20260425T185847
CREATED:20170926T225822Z
LAST-MODIFIED:20170926T225822Z
UID:477-1506866400-1506873600@timkoelling.com
SUMMARY:Four Star Brass Band at Bloody Mary Fest
DESCRIPTION:Vodka\, tomato juice\, and love. Four Star Brass Band will be wandering\, and providing entertainment while you imbibe at Bloody Mary Fest.
URL:http://timkoelling.com/gigs/four-star-brass-band-at-bloody-mary-fest/
LOCATION:Theater on The Lake\, 2401 N. Lake Shore Drive\, Chicago\, IL\, 60614\, United States
ATTACH;FMTTYPE=image/jpeg:http://timkoelling.com/wp-content/uploads/2017/08/Four-Star.jpg
END:VEVENT
BEGIN:VEVENT
DTSTART;TZID=America/Chicago:20171001T083000
DTEND;TZID=America/Chicago:20171001T120000
DTSTAMP:20260425T185847
CREATED:20170926T225144Z
LAST-MODIFIED:20170926T225243Z
UID:475-1506846600-1506859200@timkoelling.com
SUMMARY:Four Star Brass Band at Frontier - Saints vs. Dolphins
DESCRIPTION:Football in London? \nWho Dat! Join Who Dat Nation Chicago\, and Four Star Brass Band at Frontier for this week’s New Orleans Saints matchup! Four Star provides your in-game entertainment (No commercials here\, just the game!)\, and feel the love of The Big Easy!
URL:http://timkoelling.com/gigs/four-star-brass-band-at-frontier-saints-vs-dolphins/
LOCATION:Frontier\, 1072 N. Milwaukee Ave\, Chicago\, IL\, 60642\, United States
ATTACH;FMTTYPE=image/jpeg:http://timkoelling.com/wp-content/uploads/2017/09/Four-Star-Logo.jpg
END:VEVENT
BEGIN:VEVENT
DTSTART;TZID=America/Chicago:20170928T163000
DTEND;TZID=America/Chicago:20170928T184500
DTSTAMP:20260425T185847
CREATED:20170926T214857Z
LAST-MODIFIED:20170926T223451Z
UID:453-1506616200-1506624300@timkoelling.com
SUMMARY:Four Star Brass Band (Private Corporate Event)
DESCRIPTION:Four Star Brass Band
URL:http://timkoelling.com/gigs/four-star-brass-band-private-corporate-event/
LOCATION:IL
ATTACH;FMTTYPE=image/jpeg:http://timkoelling.com/wp-content/uploads/2017/09/Four-Star-Logo.jpg
END:VEVENT
BEGIN:VEVENT
DTSTART;TZID=America/Chicago:20170919T180000
DTEND;TZID=America/Chicago:20170919T190000
DTSTAMP:20260425T185847
CREATED:20170926T205857Z
LAST-MODIFIED:20170926T223528Z
UID:427-1505844000-1505847600@timkoelling.com
SUMMARY:Four Star Brass Band at Hatch Elementary (Private Party)
DESCRIPTION:
URL:http://timkoelling.com/gigs/four-star-brass-band-at-hatch-elementary-private-party/
LOCATION:IL
ATTACH;FMTTYPE=image/jpeg:http://timkoelling.com/wp-content/uploads/2017/09/Four-Star-Logo.jpg
END:VEVENT
BEGIN:VEVENT
DTSTART;TZID=America/Chicago:20170918T000000
DTEND;TZID=America/Chicago:20170918T003000
DTSTAMP:20260425T185847
CREATED:20170926T211824Z
LAST-MODIFIED:20170926T211824Z
UID:434-1505692800-1505694600@timkoelling.com
SUMMARY:Four Star Brass Band (Private Event)
DESCRIPTION:
URL:http://timkoelling.com/gigs/four-star-brass-band-private-event/
LOCATION:IL
ATTACH;FMTTYPE=image/jpeg:http://timkoelling.com/wp-content/uploads/2017/09/Four-Star-Logo.jpg
END:VEVENT
BEGIN:VEVENT
DTSTART;TZID=America/Chicago:20170917T120000
DTEND;TZID=America/Chicago:20170917T160000
DTSTAMP:20260425T185847
CREATED:20170926T211635Z
LAST-MODIFIED:20170926T211635Z
UID:429-1505649600-1505664000@timkoelling.com
SUMMARY:Four Star Brass Band at Frontier Chicago - Saints vs. Patriots
DESCRIPTION:Who Dat! Join Who Dat Nation Chicago\, and Four Star Brass Band at Frontier for this week’s New Orleans Saints matchup! Four Star provides your in-game entertainment (No commercials here\, just the game!)\, and feel the love of The Big Easy!
URL:http://timkoelling.com/gigs/four-star-brass-band-at-frontier-chicago-saints-vs-patriots/
LOCATION:Frontier\, 1072 N. Milwaukee Ave\, Chicago\, IL\, 60642\, United States
ATTACH;FMTTYPE=image/jpeg:http://timkoelling.com/wp-content/uploads/2017/09/Four-Star-Logo.jpg
END:VEVENT
BEGIN:VEVENT
DTSTART;TZID=America/Chicago:20170916T170000
DTEND;TZID=America/Chicago:20170916T210000
DTSTAMP:20260425T185847
CREATED:20170926T211921Z
LAST-MODIFIED:20170926T211921Z
UID:436-1505581200-1505595600@timkoelling.com
SUMMARY:High Hat Second Line (Private Event)
DESCRIPTION:
URL:http://timkoelling.com/gigs/high-hat-second-line-private-event/
LOCATION:IL
END:VEVENT
BEGIN:VEVENT
DTSTART;TZID=America/Chicago:20170911T180000
DTEND;TZID=America/Chicago:20170911T220000
DTSTAMP:20260425T185847
CREATED:20170926T212134Z
LAST-MODIFIED:20170926T212134Z
UID:438-1505152800-1505167200@timkoelling.com
SUMMARY:Four Star Brass Band at Frontier - Saints vs. Vikings
DESCRIPTION:Who Dat! Join Who Dat Nation Chicago\, and Four Star Brass Band at Frontier for this week’s New Orleans Saints matchup! Four Star provides your in-game entertainment (No commercials here\, just the game!)\, and feel the love of The Big Easy!
URL:http://timkoelling.com/gigs/four-star-brass-band-at-frontier-saints-vs-vikings/
LOCATION:Frontier\, 1072 N. Milwaukee Ave\, Chicago\, IL\, 60642\, United States
ATTACH;FMTTYPE=image/jpeg:http://timkoelling.com/wp-content/uploads/2017/09/Four-Star-Logo.jpg
END:VEVENT
BEGIN:VEVENT
DTSTART;TZID=America/Chicago:20170903T180000
DTEND;TZID=America/Chicago:20170903T193000
DTSTAMP:20260425T185847
CREATED:20170926T214357Z
LAST-MODIFIED:20170926T214357Z
UID:450-1504461600-1504467000@timkoelling.com
SUMMARY:High Hat Second Line (Private Event)
DESCRIPTION:
URL:http://timkoelling.com/gigs/high-hat-second-line-private-event-2/
LOCATION:University Club of Chicago\, 76 E. Monroe St\, Chicago\, IL\, 60603\, United States
END:VEVENT
BEGIN:VEVENT
DTSTART;TZID=America/Chicago:20170902T170000
DTEND;TZID=America/Chicago:20170902T180000
DTSTAMP:20260425T185847
CREATED:20170926T214022Z
LAST-MODIFIED:20170926T214022Z
UID:445-1504371600-1504375200@timkoelling.com
SUMMARY:Band Called Catch at Lobsterfest on Navy Pier
DESCRIPTION:BCC rides again at Lobsterfest! We’re debuting our new Single “See You Soon“. Don’t miss it!
URL:http://timkoelling.com/gigs/band-called-catch-at-lobsterfest-on-navy-pier/
LOCATION:Navy Pier\, 600 E Grand Ave\, Chicago\, IL\, 60611\, United States
ATTACH;FMTTYPE=image/jpeg:http://timkoelling.com/wp-content/uploads/2017/09/BCCHOB.jpg
END:VEVENT
BEGIN:VEVENT
DTSTART;TZID=America/Chicago:20170902T080000
DTEND;TZID=America/Chicago:20170903T170000
DTSTAMP:20260425T185847
CREATED:20170926T213244Z
LAST-MODIFIED:20170926T213244Z
UID:441-1504339200-1504458000@timkoelling.com
SUMMARY:Lobster Marching Band at Lobsterfest on Navy Pier
DESCRIPTION:Come on out to see TK\, JP\, and JD play periodic lobster and nautical themed New-Orleans style music in support of American Lobster Fest 2017! We’ll be marching up and down the pier for 20 minutes or so every hour. Food\, music and more await at the end of the pier by the Grand Ballroom.
URL:http://timkoelling.com/gigs/lobster-marching-band-at-lobsterfest-on-navy-pier/
LOCATION:Navy Pier\, 600 E Grand Ave\, Chicago\, IL\, 60611\, United States
ATTACH;FMTTYPE=image/png:http://timkoelling.com/wp-content/uploads/2017/09/TKJPJD.png
END:VEVENT
BEGIN:VEVENT
DTSTART;TZID=America/Chicago:20170827T120000
DTEND;TZID=America/Chicago:20170827T160000
DTSTAMP:20260425T185847
CREATED:20170926T214203Z
LAST-MODIFIED:20170926T214203Z
UID:448-1503835200-1503849600@timkoelling.com
SUMMARY:Four Star Brass Band at Frontier
DESCRIPTION:Join Four Star Brass Band for a Crawfish Boil!
URL:http://timkoelling.com/gigs/four-star-brass-band-at-frontier/
LOCATION:Frontier\, 1072 N. Milwaukee Ave\, Chicago\, IL\, 60642\, United States
END:VEVENT
BEGIN:VEVENT
DTSTART;TZID=America/Chicago:20170812T190000
DTEND;TZID=America/Chicago:20170812T220000
DTSTAMP:20260425T185847
CREATED:20170926T215133Z
LAST-MODIFIED:20170926T215133Z
UID:455-1502564400-1502575200@timkoelling.com
SUMMARY:Four Star Brass Band (Private Event)
DESCRIPTION:
URL:http://timkoelling.com/gigs/four-star-brass-band-private-event-2/
LOCATION:IL
ATTACH;FMTTYPE=image/jpeg:http://timkoelling.com/wp-content/uploads/2017/09/Four-Star-Logo.jpg
END:VEVENT
BEGIN:VEVENT
DTSTART;TZID=UTC:20170808T163000
DTEND;TZID=UTC:20170808T183000
DTSTAMP:20260425T185847
CREATED:20170808T234906Z
LAST-MODIFIED:20170808T234906Z
UID:409-1502209800-1502217000@timkoelling.com
SUMMARY:Four Star Brass Band at Guaranteed Rate Field (Gate 4)
DESCRIPTION:Four Star Brass Band provides your free pre-game entertainment for tonight’s White Sox game just outside of gate 4.
URL:http://timkoelling.com/gigs/four-star-brass-band-at-guaranteed-rate-field-gate-4/
LOCATION:Guaranteed Rate Field\, 333 W. 35th St\, Chicago\, IL\, 60616\, United States
ATTACH;FMTTYPE=image/jpeg:http://timkoelling.com/wp-content/uploads/2017/08/Four-Star.jpg
END:VEVENT
END:VCALENDAR