BEGIN:VCALENDAR
VERSION:2.0
PRODID:-//Tim Koelling - ECPv6.15.18//NONSGML v1.0//EN
CALSCALE:GREGORIAN
METHOD:PUBLISH
X-WR-CALNAME:Tim Koelling
X-ORIGINAL-URL:http://timkoelling.com
X-WR-CALDESC:Events for Tim Koelling
REFRESH-INTERVAL;VALUE=DURATION:PT1H
X-Robots-Tag:noindex
X-PUBLISHED-TTL:PT1H
BEGIN:VTIMEZONE
TZID:America/Chicago
BEGIN:DAYLIGHT
TZOFFSETFROM:-0600
TZOFFSETTO:-0500
TZNAME:CDT
DTSTART:20160313T080000
END:DAYLIGHT
BEGIN:STANDARD
TZOFFSETFROM:-0500
TZOFFSETTO:-0600
TZNAME:CST
DTSTART:20161106T070000
END:STANDARD
BEGIN:DAYLIGHT
TZOFFSETFROM:-0600
TZOFFSETTO:-0500
TZNAME:CDT
DTSTART:20170312T080000
END:DAYLIGHT
BEGIN:STANDARD
TZOFFSETFROM:-0500
TZOFFSETTO:-0600
TZNAME:CST
DTSTART:20171105T070000
END:STANDARD
BEGIN:DAYLIGHT
TZOFFSETFROM:-0600
TZOFFSETTO:-0500
TZNAME:CDT
DTSTART:20180311T080000
END:DAYLIGHT
BEGIN:STANDARD
TZOFFSETFROM:-0500
TZOFFSETTO:-0600
TZNAME:CST
DTSTART:20181104T070000
END:STANDARD
END:VTIMEZONE
BEGIN:VTIMEZONE
TZID:UTC
BEGIN:STANDARD
TZOFFSETFROM:+0000
TZOFFSETTO:+0000
TZNAME:UTC
DTSTART:20160101T000000
END:STANDARD
END:VTIMEZONE
BEGIN:VEVENT
DTSTART;TZID=America/Chicago:20170918T000000
DTEND;TZID=America/Chicago:20170918T003000
DTSTAMP:20260425T221421
CREATED:20170926T211824Z
LAST-MODIFIED:20170926T211824Z
UID:434-1505692800-1505694600@timkoelling.com
SUMMARY:Four Star Brass Band (Private Event)
DESCRIPTION:
URL:http://timkoelling.com/gigs/four-star-brass-band-private-event/
LOCATION:IL
ATTACH;FMTTYPE=image/jpeg:http://timkoelling.com/wp-content/uploads/2017/09/Four-Star-Logo.jpg
END:VEVENT
BEGIN:VEVENT
DTSTART;TZID=America/Chicago:20170917T120000
DTEND;TZID=America/Chicago:20170917T160000
DTSTAMP:20260425T221421
CREATED:20170926T211635Z
LAST-MODIFIED:20170926T211635Z
UID:429-1505649600-1505664000@timkoelling.com
SUMMARY:Four Star Brass Band at Frontier Chicago - Saints vs. Patriots
DESCRIPTION:Who Dat! Join Who Dat Nation Chicago\, and Four Star Brass Band at Frontier for this week’s New Orleans Saints matchup! Four Star provides your in-game entertainment (No commercials here\, just the game!)\, and feel the love of The Big Easy!
URL:http://timkoelling.com/gigs/four-star-brass-band-at-frontier-chicago-saints-vs-patriots/
LOCATION:Frontier\, 1072 N. Milwaukee Ave\, Chicago\, IL\, 60642\, United States
ATTACH;FMTTYPE=image/jpeg:http://timkoelling.com/wp-content/uploads/2017/09/Four-Star-Logo.jpg
END:VEVENT
BEGIN:VEVENT
DTSTART;TZID=America/Chicago:20170916T170000
DTEND;TZID=America/Chicago:20170916T210000
DTSTAMP:20260425T221421
CREATED:20170926T211921Z
LAST-MODIFIED:20170926T211921Z
UID:436-1505581200-1505595600@timkoelling.com
SUMMARY:High Hat Second Line (Private Event)
DESCRIPTION:
URL:http://timkoelling.com/gigs/high-hat-second-line-private-event/
LOCATION:IL
END:VEVENT
BEGIN:VEVENT
DTSTART;TZID=America/Chicago:20170911T180000
DTEND;TZID=America/Chicago:20170911T220000
DTSTAMP:20260425T221421
CREATED:20170926T212134Z
LAST-MODIFIED:20170926T212134Z
UID:438-1505152800-1505167200@timkoelling.com
SUMMARY:Four Star Brass Band at Frontier - Saints vs. Vikings
DESCRIPTION:Who Dat! Join Who Dat Nation Chicago\, and Four Star Brass Band at Frontier for this week’s New Orleans Saints matchup! Four Star provides your in-game entertainment (No commercials here\, just the game!)\, and feel the love of The Big Easy!
URL:http://timkoelling.com/gigs/four-star-brass-band-at-frontier-saints-vs-vikings/
LOCATION:Frontier\, 1072 N. Milwaukee Ave\, Chicago\, IL\, 60642\, United States
ATTACH;FMTTYPE=image/jpeg:http://timkoelling.com/wp-content/uploads/2017/09/Four-Star-Logo.jpg
END:VEVENT
BEGIN:VEVENT
DTSTART;TZID=America/Chicago:20170903T180000
DTEND;TZID=America/Chicago:20170903T193000
DTSTAMP:20260425T221421
CREATED:20170926T214357Z
LAST-MODIFIED:20170926T214357Z
UID:450-1504461600-1504467000@timkoelling.com
SUMMARY:High Hat Second Line (Private Event)
DESCRIPTION:
URL:http://timkoelling.com/gigs/high-hat-second-line-private-event-2/
LOCATION:University Club of Chicago\, 76 E. Monroe St\, Chicago\, IL\, 60603\, United States
END:VEVENT
BEGIN:VEVENT
DTSTART;TZID=America/Chicago:20170902T170000
DTEND;TZID=America/Chicago:20170902T180000
DTSTAMP:20260425T221421
CREATED:20170926T214022Z
LAST-MODIFIED:20170926T214022Z
UID:445-1504371600-1504375200@timkoelling.com
SUMMARY:Band Called Catch at Lobsterfest on Navy Pier
DESCRIPTION:BCC rides again at Lobsterfest! We’re debuting our new Single “See You Soon“. Don’t miss it!
URL:http://timkoelling.com/gigs/band-called-catch-at-lobsterfest-on-navy-pier/
LOCATION:Navy Pier\, 600 E Grand Ave\, Chicago\, IL\, 60611\, United States
ATTACH;FMTTYPE=image/jpeg:http://timkoelling.com/wp-content/uploads/2017/09/BCCHOB.jpg
END:VEVENT
BEGIN:VEVENT
DTSTART;TZID=America/Chicago:20170902T080000
DTEND;TZID=America/Chicago:20170903T170000
DTSTAMP:20260425T221421
CREATED:20170926T213244Z
LAST-MODIFIED:20170926T213244Z
UID:441-1504339200-1504458000@timkoelling.com
SUMMARY:Lobster Marching Band at Lobsterfest on Navy Pier
DESCRIPTION:Come on out to see TK\, JP\, and JD play periodic lobster and nautical themed New-Orleans style music in support of American Lobster Fest 2017! We’ll be marching up and down the pier for 20 minutes or so every hour. Food\, music and more await at the end of the pier by the Grand Ballroom.
URL:http://timkoelling.com/gigs/lobster-marching-band-at-lobsterfest-on-navy-pier/
LOCATION:Navy Pier\, 600 E Grand Ave\, Chicago\, IL\, 60611\, United States
ATTACH;FMTTYPE=image/png:http://timkoelling.com/wp-content/uploads/2017/09/TKJPJD.png
END:VEVENT
BEGIN:VEVENT
DTSTART;TZID=America/Chicago:20170827T120000
DTEND;TZID=America/Chicago:20170827T160000
DTSTAMP:20260425T221421
CREATED:20170926T214203Z
LAST-MODIFIED:20170926T214203Z
UID:448-1503835200-1503849600@timkoelling.com
SUMMARY:Four Star Brass Band at Frontier
DESCRIPTION:Join Four Star Brass Band for a Crawfish Boil!
URL:http://timkoelling.com/gigs/four-star-brass-band-at-frontier/
LOCATION:Frontier\, 1072 N. Milwaukee Ave\, Chicago\, IL\, 60642\, United States
END:VEVENT
BEGIN:VEVENT
DTSTART;TZID=America/Chicago:20170812T190000
DTEND;TZID=America/Chicago:20170812T220000
DTSTAMP:20260425T221421
CREATED:20170926T215133Z
LAST-MODIFIED:20170926T215133Z
UID:455-1502564400-1502575200@timkoelling.com
SUMMARY:Four Star Brass Band (Private Event)
DESCRIPTION:
URL:http://timkoelling.com/gigs/four-star-brass-band-private-event-2/
LOCATION:IL
ATTACH;FMTTYPE=image/jpeg:http://timkoelling.com/wp-content/uploads/2017/09/Four-Star-Logo.jpg
END:VEVENT
BEGIN:VEVENT
DTSTART;TZID=UTC:20170808T163000
DTEND;TZID=UTC:20170808T183000
DTSTAMP:20260425T221421
CREATED:20170808T234906Z
LAST-MODIFIED:20170808T234906Z
UID:409-1502209800-1502217000@timkoelling.com
SUMMARY:Four Star Brass Band at Guaranteed Rate Field (Gate 4)
DESCRIPTION:Four Star Brass Band provides your free pre-game entertainment for tonight’s White Sox game just outside of gate 4.
URL:http://timkoelling.com/gigs/four-star-brass-band-at-guaranteed-rate-field-gate-4/
LOCATION:Guaranteed Rate Field\, 333 W. 35th St\, Chicago\, IL\, 60616\, United States
ATTACH;FMTTYPE=image/jpeg:http://timkoelling.com/wp-content/uploads/2017/08/Four-Star.jpg
END:VEVENT
BEGIN:VEVENT
DTSTART;TZID=UTC:20170805T235500
DTEND;TZID=UTC:20170806T011000
DTSTAMP:20260425T221421
CREATED:20170808T232458Z
LAST-MODIFIED:20170808T232601Z
UID:406-1501977300-1501981800@timkoelling.com
SUMMARY:Mike Maimone at X-TRA 920 Special Events & Entertainment
DESCRIPTION:The Mike Maimone Solo project makes it’s Mile of Music debut in Appleton this weekend! Mike Maimone Appleton Mile of Music
URL:http://timkoelling.com/gigs/mike-maimone-at-x-tra-920-special-events-entertainment/
LOCATION:X-TRA 920 Special Events & Entertainment\, 527 W. College Ave\, Appleton\, WI\, 54911\, United States
ATTACH;FMTTYPE=image/jpeg:http://timkoelling.com/wp-content/uploads/2017/08/Mike-Maimone-Appleton.jpg
END:VEVENT
BEGIN:VEVENT
DTSTART;TZID=UTC:20170805T161000
DTEND;TZID=UTC:20170805T170000
DTSTAMP:20260425T221421
CREATED:20170808T232200Z
LAST-MODIFIED:20170808T232731Z
UID:403-1501949400-1501952400@timkoelling.com
SUMMARY:Mike Maimone at Gibson Music Hall
DESCRIPTION:The Mike Maimone Solo project makes it’s Mile of Music debut in Appleton this weekend! Mike Maimone Appleton Mile of Music
URL:http://timkoelling.com/gigs/mike-maimone-at-gibson-music-hall/
LOCATION:Gibson Music Hall\, 211 W. College Ave\, Appleton\, WI\, 54911\, United States
ATTACH;FMTTYPE=image/jpeg:http://timkoelling.com/wp-content/uploads/2017/08/Mike-Maimone-Appleton.jpg
END:VEVENT
BEGIN:VEVENT
DTSTART;TZID=UTC:20170804T235500
DTEND;TZID=UTC:20170805T005000
DTSTAMP:20260425T221421
CREATED:20170808T231938Z
LAST-MODIFIED:20170808T231938Z
UID:400-1501890900-1501894200@timkoelling.com
SUMMARY:Mike Maimone at Deja Vu Martini Lounge
DESCRIPTION:The Mike Maimone Solo project makes it’s Mile of Music debut in Appleton this weekend! Mike Maimone Appleton Mile of Music \nwww.mileofmusic.com
URL:http://timkoelling.com/gigs/mike-maimone-at-deja-vu-martini-lounge/
LOCATION:Deja Vu Martini Lounge\, 519 W. College Ave\, Appleton\, WI\, 54911\, United States
ATTACH;FMTTYPE=image/jpeg:http://timkoelling.com/wp-content/uploads/2017/08/Mike-Maimone-Appleton.jpg
END:VEVENT
BEGIN:VEVENT
DTSTART;TZID=America/Chicago:20170804T185500
DTEND;TZID=America/Chicago:20170804T194500
DTSTAMP:20260425T221421
CREATED:20170808T222958Z
LAST-MODIFIED:20170808T223101Z
UID:389-1501872900-1501875900@timkoelling.com
SUMMARY:Mike Maimone at The Ambassador
DESCRIPTION:The Mike Maimone Solo project makes it’s Mile of Music debut in Appleton this weekend! \nMike Maimone\nAppleton Mile of Music
URL:http://timkoelling.com/gigs/mike-maimone/
LOCATION:The Ambassador\, 117 S. Appleton St\, Appleton\, WI\, 54911\, United States
ATTACH;FMTTYPE=image/jpeg:http://timkoelling.com/wp-content/uploads/2017/08/Mike-Maimone-Appleton.jpg
END:VEVENT
BEGIN:VEVENT
DTSTART;TZID=America/Chicago:20170729T000000
DTEND;TZID=America/Chicago:20170730T010000
DTSTAMP:20260425T221421
CREATED:20170926T205525Z
LAST-MODIFIED:20170926T205525Z
UID:416-1501286400-1501376400@timkoelling.com
SUMMARY:Psychophantic Furs at Live Wire
DESCRIPTION:Join Psychedelic Furs tribute Psychophantic Furs\, as well as Who’s This Mary (Echo and the Bunnymen)\, Mystic Moon (The Pretenders)\, and Guns and Ammunition (The Clash).
URL:http://timkoelling.com/gigs/psychophantic-furs-at-live-wire/
LOCATION:IL
END:VEVENT
BEGIN:VEVENT
DTSTART;TZID=America/Chicago:20170728T200000
DTEND;TZID=America/Chicago:20170728T210000
DTSTAMP:20260425T221421
CREATED:20170926T205638Z
LAST-MODIFIED:20170926T205638Z
UID:417-1501272000-1501275600@timkoelling.com
SUMMARY:Mike Maimone at the Wide Eyed Music Festival
DESCRIPTION:Mike Maimone\, with horns\, plays the Wide Eyed Music Fest in Indianapolis\, IN
URL:http://timkoelling.com/gigs/mike-maimone-at-the-wide-eyed-music-festival/
LOCATION:IL
END:VEVENT
BEGIN:VEVENT
DTSTART;TZID=America/Chicago:20170727T160000
DTEND;TZID=America/Chicago:20170727T183000
DTSTAMP:20260425T221421
CREATED:20170926T215440Z
LAST-MODIFIED:20170926T215440Z
UID:457-1501171200-1501180200@timkoelling.com
SUMMARY:Four Star Brass Band (Private Corporate Event)
DESCRIPTION:
URL:http://timkoelling.com/gigs/four-star-brass-band-private-corporate-event-2/
LOCATION:IL
ATTACH;FMTTYPE=image/jpeg:http://timkoelling.com/wp-content/uploads/2017/09/Four-Star-Logo.jpg
END:VEVENT
BEGIN:VEVENT
DTSTART;TZID=America/Chicago:20170726T180000
DTEND;TZID=America/Chicago:20170726T200000
DTSTAMP:20260425T221421
CREATED:20170926T220541Z
LAST-MODIFIED:20170926T220541Z
UID:459-1501092000-1501099200@timkoelling.com
SUMMARY:Mike Maimone - Lakeview Live
DESCRIPTION:Mike Maimone \nLakeview Live – Roscoe/Paulina/Lincoln\, Chicago\, IL – 6PM – FREE! \nThe Mike Maimone solo project\, with horns makes it’s outdoor debut for the Lakeview Chamber of Commerce “Concerts on the Curb” series.
URL:http://timkoelling.com/gigs/mike-maimone-lakeview-live/
LOCATION:IL
ATTACH;FMTTYPE=image/jpeg:http://timkoelling.com/wp-content/uploads/2017/08/Mike-Maimone-Appleton.jpg
END:VEVENT
BEGIN:VEVENT
DTSTART;TZID=America/Chicago:20170723T150000
DTEND;TZID=America/Chicago:20170723T170000
DTSTAMP:20260425T221421
CREATED:20170926T220922Z
LAST-MODIFIED:20170926T220922Z
UID:461-1500822000-1500829200@timkoelling.com
SUMMARY:Mike Maimone at the Green Mill for Paper Machette
DESCRIPTION:Mike Maimone \nThe Paper Machete – The Green Mill – 4802 N. Broadway Ave\, Chicago\, IL 60640 – 3PM – FREE! \nThe Mike Maimone 2017 solo project debut at the Paper Machete.
URL:http://timkoelling.com/gigs/mike-maimone-at-the-green-mill-for-paper-machette/
LOCATION:The Green Mill\, 4802 N. Broadway St\, Chicago\, IL\, 60640\, United States
ATTACH;FMTTYPE=image/jpeg:http://timkoelling.com/wp-content/uploads/2017/08/Mike-Maimone-Appleton.jpg
END:VEVENT
BEGIN:VEVENT
DTSTART;TZID=America/Chicago:20170721T180000
DTEND;TZID=America/Chicago:20170721T233000
DTSTAMP:20260425T221421
CREATED:20170926T221330Z
LAST-MODIFIED:20170926T221330Z
UID:464-1500660000-1500679800@timkoelling.com
SUMMARY:Elephant Gun (Private Event)
DESCRIPTION:Elephant Gun
URL:http://timkoelling.com/gigs/elephant-gun-private-event/
LOCATION:IL
ATTACH;FMTTYPE=image/jpeg:http://timkoelling.com/wp-content/uploads/2017/01/15380612_10153938568661861_2622270513693819844_n.jpg
END:VEVENT
BEGIN:VEVENT
DTSTART;TZID=America/Chicago:20170707T190000
DTEND;TZID=America/Chicago:20170707T203000
DTSTAMP:20260425T221421
CREATED:20170926T221655Z
LAST-MODIFIED:20170926T221655Z
UID:466-1499454000-1499459400@timkoelling.com
SUMMARY:Band Called Catch at the Fred P. Hall Amphitheater
DESCRIPTION:Band Called Catch \nFred P. Hall Amphitheater – 340 E. Palatine Rd\, Palatine\, IL 60067 – 7PM – FREE! \nBand Called Catch returns to Palatine in 2017 for a free show!
URL:http://timkoelling.com/gigs/band-called-catch-at-the-fred-p-hall-amphitheater/
LOCATION:Fred P. Hall Amphitheater\, 340 E. Palatine Road\, Palatine\, IL\, 60067\, United States
ATTACH;FMTTYPE=image/jpeg:http://timkoelling.com/wp-content/uploads/2017/09/BCCHOB.jpg
END:VEVENT
BEGIN:VEVENT
DTSTART;TZID=America/Chicago:20170107T210000
DTEND;TZID=America/Chicago:20170107T230000
DTSTAMP:20260425T221421
CREATED:20170926T222050Z
LAST-MODIFIED:20170926T222050Z
UID:469-1483822800-1483830000@timkoelling.com
SUMMARY:Band Called Catch at House of Blues
DESCRIPTION:Band Called Catch \nHouse of Blues – 329 N. Dearborn St\, Chicago\, IL 60654 – 7:30PM – $18 \nBand Called Catch opens for Trippin’ Billies annual January concert. BCC hits at 9!
URL:http://timkoelling.com/gigs/band-called-catch-at-house-of-blues/
LOCATION:Houe of Blues Chicago\, 329 N. Dearborn St.\, Chicago\, IL\, 60654\, United States
ATTACH;FMTTYPE=image/jpeg:http://timkoelling.com/wp-content/uploads/2017/09/BCCHOB.jpg
END:VEVENT
BEGIN:VEVENT
DTSTART;TZID=America/Chicago:20170107T183000
DTEND;TZID=America/Chicago:20170107T203000
DTSTAMP:20260425T221421
CREATED:20170926T222512Z
LAST-MODIFIED:20170926T222512Z
UID:472-1483813800-1483821000@timkoelling.com
SUMMARY:Elephant Gun at 1st Ward Chop Shop for Ian's Party
DESCRIPTION:Elephant Gun \nChop Shop/1st Ward – 2033 W. North Ave\, Chicago\, IL 60647 – 6:30PM – $20-40 \nIan’s Party 2017! Elephant Gun opens the festivities.
URL:http://timkoelling.com/gigs/elephant-gun-at-1st-ward-chop-shop-for-ians-party/
LOCATION:The Chop Shop & 1st Ward\, 2033 W. North Ave\, Chicago\, IL\, 60647\, United States
ATTACH;FMTTYPE=image/jpeg:http://timkoelling.com/wp-content/uploads/2017/01/15380612_10153938568661861_2622270513693819844_n.jpg
END:VEVENT
END:VCALENDAR