BEGIN:VCALENDAR
VERSION:2.0
PRODID:-//Tim Koelling - ECPv6.15.18//NONSGML v1.0//EN
CALSCALE:GREGORIAN
METHOD:PUBLISH
X-WR-CALNAME:Tim Koelling
X-ORIGINAL-URL:http://timkoelling.com
X-WR-CALDESC:Events for Tim Koelling
REFRESH-INTERVAL;VALUE=DURATION:PT1H
X-Robots-Tag:noindex
X-PUBLISHED-TTL:PT1H
BEGIN:VTIMEZONE
TZID:America/Chicago
BEGIN:DAYLIGHT
TZOFFSETFROM:-0600
TZOFFSETTO:-0500
TZNAME:CDT
DTSTART:20170312T080000
END:DAYLIGHT
BEGIN:STANDARD
TZOFFSETFROM:-0500
TZOFFSETTO:-0600
TZNAME:CST
DTSTART:20171105T070000
END:STANDARD
BEGIN:DAYLIGHT
TZOFFSETFROM:-0600
TZOFFSETTO:-0500
TZNAME:CDT
DTSTART:20180311T080000
END:DAYLIGHT
BEGIN:STANDARD
TZOFFSETFROM:-0500
TZOFFSETTO:-0600
TZNAME:CST
DTSTART:20181104T070000
END:STANDARD
BEGIN:DAYLIGHT
TZOFFSETFROM:-0600
TZOFFSETTO:-0500
TZNAME:CDT
DTSTART:20190310T080000
END:DAYLIGHT
BEGIN:STANDARD
TZOFFSETFROM:-0500
TZOFFSETTO:-0600
TZNAME:CST
DTSTART:20191103T070000
END:STANDARD
BEGIN:DAYLIGHT
TZOFFSETFROM:-0600
TZOFFSETTO:-0500
TZNAME:CDT
DTSTART:20200308T080000
END:DAYLIGHT
BEGIN:STANDARD
TZOFFSETFROM:-0500
TZOFFSETTO:-0600
TZNAME:CST
DTSTART:20201101T070000
END:STANDARD
END:VTIMEZONE
BEGIN:VEVENT
DTSTART;VALUE=DATE:20190524
DTEND;VALUE=DATE:20190527
DTSTAMP:20260425T123054
CREATED:20190411T183147Z
LAST-MODIFIED:20190411T183147Z
UID:744-1558656000-1558915199@timkoelling.com
SUMMARY:Mike Maimone at Summer Camp 2019
DESCRIPTION:The Mike Maimone project makes it’s large festival debut! Set day and time TBD! \nSummer Camp Music Festival’s first event in 2001 brought about 1\,000 patrons to enjoy over 15 bands on two stages during the 2-day event at Three Sisters Park in Chillicothe\, IL. Since\, Summer Camp has transformed the grounds annually\, welcoming in more fans\, more fun and way more music. This event is now the host of more than 20\,000 attendees and over 180 bands on ten stages over three days (four if you make it to the Thursday Pre-Party!).  Summer Camp is the biggest event in the Midwest every Memorial Day Weekend!
URL:http://timkoelling.com/gigs/mike-maimone-at-summer-camp-2019/
LOCATION:Summer Camp\, 17189 IL-29\, Chillicothe\, IL\, 61523
ATTACH;FMTTYPE=image/jpeg:http://timkoelling.com/wp-content/uploads/2019/04/56837246_10157015164828476_5412679040966328320_o.jpg
END:VEVENT
BEGIN:VEVENT
DTSTART;TZID=America/Chicago:20190518T203000
DTEND;TZID=America/Chicago:20190518T233000
DTSTAMP:20260425T123054
CREATED:20190411T184336Z
LAST-MODIFIED:20190411T184336Z
UID:752-1558211400-1558222200@timkoelling.com
SUMMARY:Band Called Catch at Tonic Room
DESCRIPTION:What better day to have a BCC show than on World Whisky Day: May 18th! Join us for a nice long set and a nice long pour of Whisky at one of our favorite intimate rooms to play in Chicago: Tonic Room.  \nDoors at 8:00pm\, we’ll play around 9.
URL:http://timkoelling.com/gigs/band-called-catch-at-tonic-room/
LOCATION:Tonic Room\, 2447 N. Halstead St\, Chicago\, IL\, 60614
ATTACH;FMTTYPE=image/jpeg:http://timkoelling.com/wp-content/uploads/2019/04/13522814_10153945854839900_5714526865930600840_o.jpg
END:VEVENT
BEGIN:VEVENT
DTSTART;TZID=America/Chicago:20190509T203000
DTEND;TZID=America/Chicago:20190509T233000
DTSTAMP:20260425T123054
CREATED:20190509T221834Z
LAST-MODIFIED:20190509T221834Z
UID:757-1557433800-1557444600@timkoelling.com
SUMMARY:Natural Fact at Tonic Room
DESCRIPTION:The TnA boys are back at it\, appearing with with Natural Fact
URL:http://timkoelling.com/gigs/natural-fact-at-tonic-room/
LOCATION:Tonic Room\, 2447 N. Halstead St\, Chicago\, IL\, 60614
END:VEVENT
BEGIN:VEVENT
DTSTART;TZID=America/Chicago:20190413T193000
DTEND;TZID=America/Chicago:20190413T233000
DTSTAMP:20260425T123054
CREATED:20190411T023251Z
LAST-MODIFIED:20190411T023251Z
UID:733-1555183800-1555198200@timkoelling.com
SUMMARY:Mike Maimone at Hey Nonny with JC Brooks
DESCRIPTION:SATURDAY\, APRIL 13\, 2019\nDoors @ 7:30pm\nShowtime @ 8:30pm \nJC Brooks Band makes soul-infused dance music that is energetic and kinetically charged. Their soul mashup version of Wilco’s “I’m Trying to Break Your Heart” was a nationwide jam released by Bloodshot Records as JC Brooks & the Uptown Sound. After two critically acclaimed albums they have dropped “the Uptown Sound” from the name\, but continue with the post punk funky soul force and have become a powerful live touring band. JC Brooks has made a career out of delivering the goods\, from club stages to the biggest festivals in US and Europe. \nTheir latest EP Red Black & Blue – Was Released April 13th 2018 and has been getting great reviews and hitting lots of funky soul playlists. \n“Enveloping stage presence and palpable charisma.” – Rolling Stone \n“JC Brooks looks and performs like a cross between Chuck Berry and H.R. of Bad Brains in their primes\, but his skintight R&B and post-punk soul upend expectations of a retro act.”– Washington Post \nMike Maimone “goes from zero to a hundred quicker than most\,” according to Daytrotter. Choose Chicago says\, “He plays the piano with his feet. He swills whiskey between songs. He shouts and howls. He is an unstoppable music force.” Vern Hester of the Windy City Times adds\, “The man has the keyboard style of Fats Waller and Jerry Lee Lewis combined\, and a vocal style that clearly recalls Tom Waits and Warren Zevon.” \nMaimone has averaged over 100 tour dates each year since 2007\, primarily with his band Mutts and as a solo artist\, as well as on keyboards for Company of Thieves and Los Colognes. He has toured in support of Murder By Death\, The Hold Steady\, OK Go\, and Blues Traveler among others\, played Lollapalooza\, Sasquatch\, Riot Fest\, and at notable venues across the country\, from The Fillmore in San Francisco to the Hammerstein Ballroom in New York.
URL:http://timkoelling.com/gigs/mike-maimone-at-hey-nonny-with-jc-brooks/
LOCATION:Hey Nonny\, 10 S Vail Ave\, Arlington Heights\, IL\, 60005
ATTACH;FMTTYPE=image/jpeg:http://timkoelling.com/wp-content/uploads/2019/04/52783949_10156921127523476_6432713772103630848_o.jpg
END:VEVENT
BEGIN:VEVENT
DTSTART;TZID=America/Chicago:20190405T200000
DTEND;TZID=America/Chicago:20190405T233000
DTSTAMP:20260425T123054
CREATED:20190411T023803Z
LAST-MODIFIED:20190411T023803Z
UID:738-1554494400-1554507000@timkoelling.com
SUMMARY:Mike Maimone at Law Office Pub
DESCRIPTION:MIKE MAIMONE (full band) \nAs a performer\, Mike Maimone leaves it all on the stage. Sean Moeller of Daytrotter said he “goes from a tame resting heart rate\, living beneath a harvest moon\, to pure adrenaline — instantaneously. He goes from zero to a hundred quicker than most.”  \nVern Hester of the LGBT newspaper Windy City Times said\, “The man has the keyboard style of Fats Waller and Jerry Lee Lewis combined\, and a vocal style that clearly recalls Tom Waits and Warren Zevon. With him bouncing up and down\, smacking the keys and growling like a jolly puppet who just lost its strings\, it was pretty hard not to get engulfed in all the fun he was having.” \nMaimone has averaged over 100 tour dates each year since 2007 as a solo artist\, with his band Mutts\, and as keyboardist for acts including Company of Thieves\, Los Colognes\, Jon Walker of Panic at the Disco\, and Bailiff. Tour milestones include playing Lollapalooza\, Sasquatch Music Fest\, Riot Fest\, and Last Call with Carson Daly.
URL:http://timkoelling.com/gigs/mike-maimone-at-law-office-pub/
LOCATION:Law Office Pub & Music Hall\, 226 S Bridge St\, Yorkville\, IL\, 60560
ATTACH;FMTTYPE=image/jpeg:http://timkoelling.com/wp-content/uploads/2019/04/52783949_10156921127523476_6432713772103630848_o.jpg
END:VEVENT
BEGIN:VEVENT
DTSTART;VALUE=DATE:20190302
DTEND;VALUE=DATE:20190303
DTSTAMP:20260425T123054
CREATED:20190122T024552Z
LAST-MODIFIED:20190122T024552Z
UID:719-1551484800-1551571199@timkoelling.com
SUMMARY:Mike Maimone in St. Louis - TBA
DESCRIPTION:
URL:http://timkoelling.com/gigs/mike-maimone-in-st-louis-tba/
LOCATION:IL
END:VEVENT
BEGIN:VEVENT
DTSTART;TZID=America/Chicago:20190224T180000
DTEND;TZID=America/Chicago:20190224T200000
DTSTAMP:20260425T123054
CREATED:20190122T024504Z
LAST-MODIFIED:20190122T024504Z
UID:715-1551031200-1551038400@timkoelling.com
SUMMARY:Pink Monkey at Broken Shaker
DESCRIPTION:Pink Monkey 2.0 is trying something out in a rare performance. More details TBA\, but put this on your calendar!
URL:http://timkoelling.com/gigs/pink-monkey-at-broken-shaker/
LOCATION:Broken Shaker at Freehand Hotel\, 19 E Ohio St\, Chicago\, IL\, 60611
ATTACH;FMTTYPE=image/jpeg:http://timkoelling.com/wp-content/uploads/2019/01/Ink.jpg
END:VEVENT
BEGIN:VEVENT
DTSTART;TZID=America/Chicago:20190208T210000
DTEND;TZID=America/Chicago:20190208T210000
DTSTAMP:20260425T123054
CREATED:20190122T023404Z
LAST-MODIFIED:20190122T023653Z
UID:711-1549659600-1549659600@timkoelling.com
SUMMARY:High-Hat Second Line at Nick's Beer Garden
DESCRIPTION:
URL:http://timkoelling.com/gigs/high-hat-second-line-at-nicks-beer-garden-2/
LOCATION:Nick’s Beer Garden\, 1516 N Milwaukee Ave\, Chicago\, IL\, 60622\, United States
ATTACH;FMTTYPE=image/jpeg:http://timkoelling.com/wp-content/uploads/2018/08/HighHat.jpg
END:VEVENT
BEGIN:VEVENT
DTSTART;TZID=America/Chicago:20190208T200000
DTEND;TZID=America/Chicago:20190208T230000
DTSTAMP:20260425T123054
CREATED:20190122T023001Z
LAST-MODIFIED:20190122T023001Z
UID:706-1549656000-1549666800@timkoelling.com
SUMMARY:Mike Maimone at Lincoln Hall
DESCRIPTION:Mike Maimone is starting 2019 with a bang! On the heels of releasing a music video for Through The Changes\, we have another single coming out. Come to Lincoln Hall to see what Mike and the band have been up to! \nWith:\nBassel and the Supernaturals\nKayem\nDassist
URL:http://timkoelling.com/gigs/mike-maimone-at-lincoln-hall/
LOCATION:Lincoln Hall\, 2424 N Lincoln Ave\, Chicago\, IL\, 60614
ATTACH;FMTTYPE=image/jpeg:http://timkoelling.com/wp-content/uploads/2019/01/49948075_1851519308311254_6070404624664231936_o.jpg
END:VEVENT
BEGIN:VEVENT
DTSTART;TZID=America/Chicago:20190207T180000
DTEND;TZID=America/Chicago:20190207T210000
DTSTAMP:20260425T123054
CREATED:20190122T021607Z
LAST-MODIFIED:20190122T021607Z
UID:704-1549562400-1549573200@timkoelling.com
SUMMARY:High Hat Second Line - Private Party
DESCRIPTION:
URL:http://timkoelling.com/gigs/high-hat-second-line-private-party/
LOCATION:IL
END:VEVENT
BEGIN:VEVENT
DTSTART;TZID=America/Chicago:20190201T173000
DTEND;TZID=America/Chicago:20190201T193000
DTSTAMP:20260425T123054
CREATED:20190122T023741Z
LAST-MODIFIED:20190122T023741Z
UID:713-1549042200-1549049400@timkoelling.com
SUMMARY:Four Star Brass Band - Private Party
DESCRIPTION:
URL:http://timkoelling.com/gigs/four-star-brass-band-private-party/
LOCATION:IL
END:VEVENT
BEGIN:VEVENT
DTSTART;TZID=America/Chicago:20190131T210000
DTEND;TZID=America/Chicago:20190131T230000
DTSTAMP:20260425T123054
CREATED:20190122T021421Z
LAST-MODIFIED:20190122T021421Z
UID:702-1548968400-1548975600@timkoelling.com
SUMMARY:High-Hat Second Line at The Hungry Brain
DESCRIPTION:High-Hat is back in action for our first public performance of 2019 at The Hungry Brain. Best known as a haven for avant-garde jazz through it’s history\, this north-side club is one of the best spots to see live music.
URL:http://timkoelling.com/gigs/high-hat-second-line-at-the-hungry-brain/
LOCATION:Hungry Brain\, 2319 W. Belmont\, Chicago\, IL\, 60618\, United States
ATTACH;FMTTYPE=image/jpeg:http://timkoelling.com/wp-content/uploads/2018/08/HighHat.jpg
END:VEVENT
BEGIN:VEVENT
DTSTART;TZID=America/Chicago:20190121T140000
DTEND;TZID=America/Chicago:20190121T180000
DTSTAMP:20260425T123054
CREATED:20190122T020123Z
LAST-MODIFIED:20190122T020123Z
UID:700-1548079200-1548093600@timkoelling.com
SUMMARY:Four Star Brass Band at Frontier - Saints vs. Rams
DESCRIPTION:It’s the NFC championship game! It’s gonna get loud\, so come celebrate with New Orleans in Chicago. Who Dat!
URL:http://timkoelling.com/gigs/four-star-brass-band-at-frontier-saints-vs-rams/
LOCATION:Frontier\, 1072 N. Milwaukee Ave\, Chicago\, IL\, 60642\, United States
END:VEVENT
BEGIN:VEVENT
DTSTART;TZID=America/Chicago:20190120T110000
DTEND;TZID=America/Chicago:20190120T130000
DTSTAMP:20260425T123054
CREATED:20190122T015947Z
LAST-MODIFIED:20190122T015947Z
UID:698-1547982000-1547989200@timkoelling.com
SUMMARY:Four Star Brass Band at Frontier - Who Dat Nation Pre-Party
DESCRIPTION:Four Star kicks off the party early again! Get ready for NFC Championship action and party down with Who Dat Nation Chicago!
URL:http://timkoelling.com/gigs/four-star-brass-band-at-frontier-who-dat-nation-pre-party-2/
LOCATION:Frontier\, 1072 N. Milwaukee Ave\, Chicago\, IL\, 60642\, United States
END:VEVENT
BEGIN:VEVENT
DTSTART;TZID=America/Chicago:20190113T154000
DTEND;TZID=America/Chicago:20190113T190000
DTSTAMP:20260425T123054
CREATED:20190122T015724Z
LAST-MODIFIED:20190122T015724Z
UID:696-1547394000-1547406000@timkoelling.com
SUMMARY:Four Star Brass Band at Frontier - Saints vs Eagles
DESCRIPTION:Playoff football is here! Join Who Dat Nation Chicago to cheer on the Saints! Who Dat!
URL:http://timkoelling.com/gigs/four-star-brass-band-at-frontier-saints-vs-eagles/
LOCATION:Frontier\, 1072 N. Milwaukee Ave\, Chicago\, IL\, 60642\, United States
END:VEVENT
BEGIN:VEVENT
DTSTART;TZID=America/Chicago:20190113T130000
DTEND;TZID=America/Chicago:20190113T153000
DTSTAMP:20260425T123054
CREATED:20190122T015550Z
LAST-MODIFIED:20190122T015550Z
UID:694-1547384400-1547393400@timkoelling.com
SUMMARY:Four Star Brass Band at Frontier - Who Dat Nation Pre-Party
DESCRIPTION:Four Star brings the party to get you going before the Saints-Eagles game!
URL:http://timkoelling.com/gigs/four-star-brass-band-at-frontier-who-dat-nation-pre-party/
LOCATION:Frontier\, 1072 N. Milwaukee Ave\, Chicago\, IL\, 60642\, United States
END:VEVENT
BEGIN:VEVENT
DTSTART;TZID=America/Chicago:20190112T170000
DTEND;TZID=America/Chicago:20190112T200000
DTSTAMP:20260425T123054
CREATED:20190122T015359Z
LAST-MODIFIED:20190122T015359Z
UID:692-1547312400-1547323200@timkoelling.com
SUMMARY:High Hat Second Line - Private Event
DESCRIPTION:
URL:http://timkoelling.com/gigs/high-hat-second-line-private-event-3/
LOCATION:IL
END:VEVENT
BEGIN:VEVENT
DTSTART;TZID=America/Chicago:20190105T180500
DTEND;TZID=America/Chicago:20190105T183500
DTSTAMP:20260425T123054
CREATED:20190122T014810Z
LAST-MODIFIED:20190122T014810Z
UID:687-1546711500-1546713300@timkoelling.com
SUMMARY:Elephant Gun at SubT - Ian's Party
DESCRIPTION:Elephant Gun plays songs from our latest release Eat The House at Ian’s Party!
URL:http://timkoelling.com/gigs/elephant-gun-at-subt-ians-party/
LOCATION:Subterranean\, 2011 W North Ave\, Chicago\, IL\, 60647\, United States
END:VEVENT
BEGIN:VEVENT
DTSTART;TZID=America/Chicago:20181111T200000
DTEND;TZID=America/Chicago:20181111T220000
DTSTAMP:20260425T123054
CREATED:20181111T171909Z
LAST-MODIFIED:20181111T171909Z
UID:663-1541966400-1541973600@timkoelling.com
SUMMARY:Mike Maimone at Schubas
DESCRIPTION:Mike Maimone’s band is back\, opening for Motherfolk at Schubas.
URL:http://timkoelling.com/gigs/mike-maimone-at-schubas/
LOCATION:Schubas\, 3159 N Southport Ave\, Chicago\, IL\, 60657\, United States
END:VEVENT
BEGIN:VEVENT
DTSTART;TZID=America/Chicago:20180920T200000
DTEND;TZID=America/Chicago:20180920T235900
DTSTAMP:20260425T123054
CREATED:20180919T012947Z
LAST-MODIFIED:20180919T012947Z
UID:651-1537473600-1537487940@timkoelling.com
SUMMARY:Elephant Gun at Emporium
DESCRIPTION:Elephant Gun is back! Promoting our new album “Eat The House”\, we’re playing a FREE show at Emporium (Wicker Park) along with Jacob Horn Trio and Pelafina.
URL:http://timkoelling.com/gigs/elephant-gun-at-emporium/
LOCATION:Emporium Wicker Park\, 1366 N Milwaukee Ave\, Chicago\, IL\, 60622\, United States
ATTACH;FMTTYPE=image/jpeg:http://timkoelling.com/wp-content/uploads/2017/01/15380612_10153938568661861_2622270513693819844_n.jpg
END:VEVENT
BEGIN:VEVENT
DTSTART;TZID=America/Chicago:20180919T203000
DTEND;TZID=America/Chicago:20180919T223000
DTSTAMP:20260425T123054
CREATED:20180919T011820Z
LAST-MODIFIED:20180919T011820Z
UID:649-1537389000-1537396200@timkoelling.com
SUMMARY:High-Hat Second Line at Simon's Tavern
DESCRIPTION:Join High-Hat Second Line at our home away from home\, Simon’s Tavern for some Wednesday night fun! The sound of New Orleans in Chicago’s best Swedish bar. Cheap as free and more fun than your Thursday morning!
URL:http://timkoelling.com/gigs/high-hat-second-line-at-simons-tavern-2/
LOCATION:Simon’s Tavern\, 5210 N. Clark St.\, Chicago\, IL\, 60640\, United States
ATTACH;FMTTYPE=image/jpeg:http://timkoelling.com/wp-content/uploads/2018/08/HighHat.jpg
END:VEVENT
BEGIN:VEVENT
DTSTART;TZID=America/Chicago:20180916T170000
DTEND;TZID=America/Chicago:20180916T180000
DTSTAMP:20260425T123054
CREATED:20180919T011037Z
LAST-MODIFIED:20180919T011037Z
UID:641-1537117200-1537120800@timkoelling.com
SUMMARY:Mike Maimone at Ravenswood Artwalk
DESCRIPTION:The High Hat Clup EP is out! Join Mike Maimone and band at the Ravenswood Artwalk and hear the new tunes!
URL:http://timkoelling.com/gigs/mike-maimone-at-ravenswood-artwalk/
LOCATION:Ravenswood Art Walk\, Ravenswood & Berteau\, Chicago\, IL\, 60613\, United States
ATTACH;FMTTYPE=image/jpeg:http://timkoelling.com/wp-content/uploads/2017/08/Mike-Maimone-Appleton.jpg
END:VEVENT
BEGIN:VEVENT
DTSTART;TZID=America/Chicago:20180916T120000
DTEND;TZID=America/Chicago:20180916T153000
DTSTAMP:20260425T123054
CREATED:20180919T010425Z
LAST-MODIFIED:20180919T010425Z
UID:639-1537099200-1537111800@timkoelling.com
SUMMARY:Four Star Brass Band at Frontier - Saints vs. Browns
DESCRIPTION:Who Dat! Join Who Dat Nation Chicago\, and Four Star Brass Band at Frontier for this week’s New Orleans Saints matchup! Four Star provides your in-game entertainment (No commercials here\, just the game!)\, and feel the love of The Big Easy!
URL:http://timkoelling.com/gigs/four-star-brass-band-at-frontier-saints-vs-browns/
LOCATION:Frontier\, 1072 N. Milwaukee Ave\, Chicago\, IL\, 60642\, United States
ATTACH;FMTTYPE=image/jpeg:http://timkoelling.com/wp-content/uploads/2017/09/Four-Star-Logo.jpg
END:VEVENT
BEGIN:VEVENT
DTSTART;TZID=America/Chicago:20180915T150000
DTEND;TZID=America/Chicago:20180915T180000
DTSTAMP:20260425T123054
CREATED:20180919T011302Z
LAST-MODIFIED:20180919T011302Z
UID:644-1537023600-1537034400@timkoelling.com
SUMMARY:High-Hat Second Line in Princeton\, IL - Private Wedding
DESCRIPTION:
URL:http://timkoelling.com/gigs/high-hat-second-line-in-princeton-il-private-wedding/
LOCATION:Princeton\, IL\, Princeton\, IL\, 61356\, United States
ATTACH;FMTTYPE=image/jpeg:http://timkoelling.com/wp-content/uploads/2018/08/HighHat.jpg
END:VEVENT
BEGIN:VEVENT
DTSTART;TZID=America/Chicago:20180909T190000
DTEND;TZID=America/Chicago:20180909T220000
DTSTAMP:20260425T123054
CREATED:20180919T010206Z
LAST-MODIFIED:20180919T010206Z
UID:636-1536519600-1536530400@timkoelling.com
SUMMARY:Four Star Brass Band at Fifolet
DESCRIPTION:Join Four Star Brass Band as we provide your post Renegade Craft Fair entertainment!
URL:http://timkoelling.com/gigs/four-star-brass-band-at-fifolet/
LOCATION:Fifolet\, 1942 W. Division\, Chicago\, IL\, 60622\, United States
ATTACH;FMTTYPE=image/jpeg:http://timkoelling.com/wp-content/uploads/2017/09/Four-Star-Logo.jpg
END:VEVENT
BEGIN:VEVENT
DTSTART;TZID=America/Chicago:20180909T120000
DTEND;TZID=America/Chicago:20180909T153000
DTSTAMP:20260425T123054
CREATED:20180919T005740Z
LAST-MODIFIED:20180919T005740Z
UID:634-1536494400-1536507000@timkoelling.com
SUMMARY:Four Star Brass Band at Frontier: Saints vs. Buccaneers
DESCRIPTION:Who Dat! Let’s get this season rolling as the Saints take on the Buccaneers! Four Star Brass Band will once again be your in-game entertainment. Join Who Dat Nation Chicago at Frontier for the party!
URL:http://timkoelling.com/gigs/four-star-brass-band-at-frontier-saints-vs-buccaneers-3/
LOCATION:Frontier\, 1072 N. Milwaukee Ave\, Chicago\, IL\, 60642\, United States
ATTACH;FMTTYPE=image/jpeg:http://timkoelling.com/wp-content/uploads/2017/09/Four-Star-Logo.jpg
END:VEVENT
BEGIN:VEVENT
DTSTART;TZID=America/Chicago:20180902T154500
DTEND;TZID=America/Chicago:20180902T161500
DTSTAMP:20260425T123054
CREATED:20180830T201342Z
LAST-MODIFIED:20180830T201342Z
UID:627-1535903100-1535904900@timkoelling.com
SUMMARY:BS Brass Band at the Chicago Jazz Fest
DESCRIPTION:BS Brass Band is 2nd lining our way through Millennium park to help kick off your Chicago Jazz Fest festivities!
URL:http://timkoelling.com/gigs/bs-brass-band-at-the-chicago-jazz-fest-2/
LOCATION:Jay Pritzker Pavilion\, 201 E Randolph St\, Chicago\, IL\, 60601\, United States
END:VEVENT
BEGIN:VEVENT
DTSTART;TZID=America/Chicago:20180902T120000
DTEND;TZID=America/Chicago:20180902T220000
DTSTAMP:20260425T123054
CREATED:20180830T201930Z
LAST-MODIFIED:20180830T201930Z
UID:631-1535889600-1535925600@timkoelling.com
SUMMARY:LobsterFist Lobster Fest Marching Band at the Great American Lobster Fest at Navy Pier
DESCRIPTION:It’s that time of year. Lobster\, brass\, tourists\, and Navy Pier. \nThis year LobsterFist\, your Lobster Fest Marching Band is: \nJohn Dorhaur – Trumpet\nTim Koelling – Saxophone(s)\nJustin Past – Bari Sax\nJeffresh – Bass Drum \nand possible guest appearances. \nJoin us as we march up and down the pier all day!
URL:http://timkoelling.com/gigs/lobsterfist-lobster-fest-marching-band-at-the-great-american-lobster-fest-at-navy-pier-2/
LOCATION:Navy Pier\, 600 E Grand Ave\, Chicago\, IL\, 60611\, United States
ATTACH;FMTTYPE=image/png:http://timkoelling.com/wp-content/uploads/2017/09/TKJPJD.png
END:VEVENT
BEGIN:VEVENT
DTSTART;TZID=America/Chicago:20180901T154500
DTEND;TZID=America/Chicago:20180901T161500
DTSTAMP:20260425T123054
CREATED:20180830T201216Z
LAST-MODIFIED:20180830T201332Z
UID:624-1535816700-1535818500@timkoelling.com
SUMMARY:BS Brass Band at the Chicago Jazz Fest
DESCRIPTION:BS Brass Band is 2nd lining our way through Millennium park to help kick off your Chicago Jazz Fest festivities!
URL:http://timkoelling.com/gigs/bs-brass-band-at-the-chicago-jazz-fest/
LOCATION:Jay Pritzker Pavilion\, 201 E Randolph St\, Chicago\, IL\, 60601\, United States
END:VEVENT
BEGIN:VEVENT
DTSTART;TZID=America/Chicago:20180901T120000
DTEND;TZID=America/Chicago:20180901T220000
DTSTAMP:20260425T123054
CREATED:20180830T201813Z
LAST-MODIFIED:20180830T201813Z
UID:629-1535803200-1535839200@timkoelling.com
SUMMARY:LobsterFist Lobster Fest Marching Band at the Great American Lobster Fest at Navy Pier
DESCRIPTION:It’s that time of year. Lobster\, brass\, tourists\, and Navy Pier. \nThis year LobsterFist\, your Lobster Fest Marching Band is: \nJohn Dorhaur – Trumpet\nTim Koelling – Saxophone(s)\nJustin Past – Bari Sax\nJeffresh – Bass Drum \nand possible guest appearances. \nJoin us as we march up and down the pier all day!
URL:http://timkoelling.com/gigs/lobsterfist-lobster-fest-marching-band-at-the-great-american-lobster-fest-at-navy-pier/
LOCATION:Navy Pier\, 600 E Grand Ave\, Chicago\, IL\, 60611\, United States
ATTACH;FMTTYPE=image/png:http://timkoelling.com/wp-content/uploads/2017/09/TKJPJD.png
END:VEVENT
END:VCALENDAR